BEGIN:VCALENDAR
VERSION:2.0
PRODID:SchoolNow
CALSCALE:GREGORIAN
BEGIN:VEVENT
UID:0924ebce-25cf-11ea-a42a-22000a97d21c
DTSTAMP:20200508T003255Z
SUMMARY:ARC Meeting
LOCATION:Lodge
URL;VALUE=URI:https://www.wildernesslakecdd.org/calendar/2165900/arc-meetin
 g
DTSTART:20200504T223000Z
DTEND:20200505T000000Z
END:VEVENT
END:VCALENDAR
