BEGIN:VCALENDAR
VERSION:2.0
PRODID:SchoolNow
CALSCALE:GREGORIAN
BEGIN:VEVENT
UID:09248bde-25cf-11ea-994b-22000a97d21c
DTSTAMP:20200508T003255Z
SUMMARY:ARC Meeting
LOCATION:Lodge
URL;VALUE=URI:https://www.wildernesslakecdd.org/calendar/2165896/arc-meetin
 g
DTSTART:20200309T223000Z
DTEND:20200310T000000Z
END:VEVENT
END:VCALENDAR
