BEGIN:VCALENDAR
VERSION:2.0
PRODID:SchoolNow
CALSCALE:GREGORIAN
BEGIN:VEVENT
UID:09247540-25cf-11ea-bb00-22000a97d21c
DTSTAMP:20200508T003255Z
SUMMARY:HOA Meeting
LOCATION:Activities Center
URL;VALUE=URI:https://www.wildernesslakecdd.org/calendar/2165895/hoa-meetin
 g
DTSTART:20210727T223000Z
DTEND:20210728T003000Z
END:VEVENT
END:VCALENDAR
