BEGIN:VCALENDAR
VERSION:2.0
PRODID:SchoolNow
CALSCALE:GREGORIAN
BEGIN:VEVENT
UID:09242f18-25cf-11ea-8b75-22000a97d21c
DTSTAMP:20210502T220239Z
SUMMARY:HOA Meeting
LOCATION:Activities Center
URL;VALUE=URI:https://www.wildernesslakecdd.org/calendar/2165893/hoa-meetin
 g
DTSTART:20210525T223000Z
DTEND:20210526T003000Z
END:VEVENT
END:VCALENDAR
