BEGIN:VCALENDAR
VERSION:2.0
PRODID:SchoolNow
CALSCALE:GREGORIAN
BEGIN:VEVENT
UID:092411a4-25cf-11ea-9c73-22000a97d21c
DTSTAMP:20200508T003255Z
SUMMARY:HOA Meeting
LOCATION:Activities Center
URL;VALUE=URI:https://www.wildernesslakecdd.org/calendar/2165892/hoa-meetin
 g
DTSTART:20210427T223000Z
DTEND:20210428T003000Z
END:VEVENT
END:VCALENDAR
