BEGIN:VCALENDAR
VERSION:2.0
PRODID:SchoolNow
CALSCALE:GREGORIAN
BEGIN:VEVENT
UID:0923e1e8-25cf-11ea-b78e-22000a97d21c
DTSTAMP:20210223T192647Z
SUMMARY:HOA Meeting
URL;VALUE=URI:https://www.wildernesslakecdd.org/calendar/2165890/hoa-meetin
 g
DTSTART:20210223T233000Z
DTEND:20210224T013000Z
END:VEVENT
END:VCALENDAR
