BEGIN:VCALENDAR
VERSION:2.0
PRODID:SchoolNow
CALSCALE:GREGORIAN
BEGIN:VEVENT
UID:0923cb5e-25cf-11ea-bea9-22000a97d21c
DTSTAMP:20210116T224234Z
SUMMARY:HOA Meeting - Zoom Call. See g360.greenacre.com for specific detail
 s.
LOCATION:Activities Center
URL;VALUE=URI:https://www.wildernesslakecdd.org/calendar/2165889/hoa-meetin
 g
DTSTART:20210126T233000Z
DTEND:20210127T013000Z
END:VEVENT
END:VCALENDAR
