BEGIN:VCALENDAR
VERSION:2.0
PRODID:SchoolNow
CALSCALE:GREGORIAN
BEGIN:VEVENT
UID:0923976a-25cf-11ea-8933-22000a97d21c
DTSTAMP:20200508T003255Z
SUMMARY:HOA Meeting
LOCATION:Activities Center
URL;VALUE=URI:https://www.wildernesslakecdd.org/calendar/2165887/hoa-meetin
 g
DTSTART:20201124T233000Z
DTEND:20201125T013000Z
END:VEVENT
END:VCALENDAR
