BEGIN:VCALENDAR
VERSION:2.0
PRODID:SchoolNow
CALSCALE:GREGORIAN
BEGIN:VEVENT
UID:09237fb4-25cf-11ea-a497-22000a97d21c
DTSTAMP:20201024T203720Z
SUMMARY:HOA Zoom Meeting
LOCATION:Activities Center
URL;VALUE=URI:https://www.wildernesslakecdd.org/calendar/2165886/hoa-meetin
 g
DTSTART:20201027T223000Z
DTEND:20201028T003000Z
END:VEVENT
END:VCALENDAR
