BEGIN:VCALENDAR
VERSION:2.0
PRODID:SchoolNow
CALSCALE:GREGORIAN
BEGIN:VEVENT
UID:092229ac-25cf-11ea-8aea-22000a97d21c
DTSTAMP:20200919T153738Z
SUMMARY:HOA Zoom Meeting
LOCATION:https://zoom.us/j/98412823766?pwd=WXBuNVNlTFRHSmZLTVpoNmtjYVBMZz09
URL;VALUE=URI:https://www.wildernesslakecdd.org/calendar/2165885/hoa-meetin
 g
DTSTART:20200922T223000Z
DTEND:20200923T003000Z
END:VEVENT
END:VCALENDAR
