BEGIN:VCALENDAR
VERSION:2.0
PRODID:SchoolNow
CALSCALE:GREGORIAN
BEGIN:VEVENT
UID:09221304-25cf-11ea-81c8-22000a97d21c
DTSTAMP:20200508T003254Z
SUMMARY:HOA Meeting
LOCATION:Activities Center
URL;VALUE=URI:https://www.wildernesslakecdd.org/calendar/2165884/hoa-meetin
 g
DTSTART:20200825T223000Z
DTEND:20200826T003000Z
END:VEVENT
END:VCALENDAR
