BEGIN:VCALENDAR
VERSION:2.0
PRODID:SchoolNow
CALSCALE:GREGORIAN
BEGIN:VEVENT
UID:0921d6aa-25cf-11ea-b0c8-22000a97d21c
DTSTAMP:20200508T003254Z
SUMMARY:HOA Meeting
LOCATION:Activities Center
URL;VALUE=URI:https://www.wildernesslakecdd.org/calendar/2165882/hoa-meetin
 g
DTSTART:20200623T223000Z
DTEND:20200624T003000Z
END:VEVENT
END:VCALENDAR
