BEGIN:VCALENDAR
VERSION:2.0
PRODID:SchoolNow
CALSCALE:GREGORIAN
BEGIN:VEVENT
UID:0921c0ac-25cf-11ea-9931-22000a97d21c
DTSTAMP:20200515T013431Z
SUMMARY:HOA Meeting
LOCATION:Activities Center
URL;VALUE=URI:https://www.wildernesslakecdd.org/calendar/2165881/hoa-meetin
 g
DTSTART:20200526T223000Z
DTEND:20200527T003000Z
END:VEVENT
END:VCALENDAR
