BEGIN:VCALENDAR
VERSION:2.0
PRODID:SchoolNow
CALSCALE:GREGORIAN
BEGIN:VEVENT
UID:0921aa7c-25cf-11ea-a7a2-22000a97d21c
DTSTAMP:20200508T003254Z
SUMMARY:HOA Meeting
LOCATION:Activities Center
URL;VALUE=URI:https://www.wildernesslakecdd.org/calendar/2165880/hoa-meetin
 g
DTSTART:20200428T223000Z
DTEND:20200429T003000Z
END:VEVENT
END:VCALENDAR
