BEGIN:VCALENDAR
VERSION:2.0
PRODID:SchoolNow
CALSCALE:GREGORIAN
BEGIN:VEVENT
UID:09219352-25cf-11ea-a911-22000a97d21c
DTSTAMP:20200508T003254Z
SUMMARY:HOA Meeting
LOCATION:Activities Center
URL;VALUE=URI:https://www.wildernesslakecdd.org/calendar/2165879/hoa-meetin
 g
DTSTART:20200324T223000Z
DTEND:20200325T003000Z
END:VEVENT
END:VCALENDAR
