BEGIN:VCALENDAR
VERSION:2.0
PRODID:SchoolNow
CALSCALE:GREGORIAN
BEGIN:VEVENT
UID:09217d40-25cf-11ea-be77-22000a97d21c
DTSTAMP:20200508T003254Z
SUMMARY:HOA Meeting
LOCATION:Activities Center
URL;VALUE=URI:https://www.wildernesslakecdd.org/calendar/2165878/hoa-meetin
 g
DTSTART:20200225T233000Z
DTEND:20200226T013000Z
END:VEVENT
END:VCALENDAR
