BEGIN:VCALENDAR
VERSION:2.0
PRODID:SchoolNow
CALSCALE:GREGORIAN
BEGIN:VEVENT
UID:09213aec-25cf-11ea-b83a-22000a97d21c
DTSTAMP:20200508T003254Z
SUMMARY:HOA Meeting
LOCATION:Activities Center
URL;VALUE=URI:https://www.wildernesslakecdd.org/calendar/2165875/hoa-meetin
 g
DTSTART:20190924T223000Z
DTEND:20190925T003000Z
END:VEVENT
END:VCALENDAR
