BEGIN:VCALENDAR
VERSION:2.0
PRODID:SchoolNow
CALSCALE:GREGORIAN
BEGIN:VEVENT
UID:09210e1e-25cf-11ea-9c96-22000a97d21c
DTSTAMP:20210821T163258Z
SUMMARY:Story Time
LOCATION:Nature Center
URL;VALUE=URI:https://www.wildernesslakecdd.org/calendar/2165873/story-time
DTSTART:20210823T140000Z
DTEND:20210823T150000Z
END:VEVENT
END:VCALENDAR
