BEGIN:VCALENDAR
VERSION:2.0
PRODID:SchoolNow
CALSCALE:GREGORIAN
BEGIN:VEVENT
UID:0920c8b4-25cf-11ea-baab-22000a97d21c
DTSTAMP:20200508T003254Z
SUMMARY:Story Time
LOCATION:Activities Center
URL;VALUE=URI:https://www.wildernesslakecdd.org/calendar/2165870/story-time
DTSTART:20210802T140000Z
DTEND:20210802T150000Z
END:VEVENT
END:VCALENDAR
