BEGIN:VCALENDAR
VERSION:2.0
PRODID:SchoolNow
CALSCALE:GREGORIAN
BEGIN:VEVENT
UID:09201dba-25cf-11ea-b9c8-22000a97d21c
DTSTAMP:20200508T003254Z
SUMMARY:Story Time
LOCATION:Activities Center
URL;VALUE=URI:https://www.wildernesslakecdd.org/calendar/2165867/story-time
DTSTART:20210712T140000Z
DTEND:20210712T150000Z
END:VEVENT
END:VCALENDAR
