BEGIN:VCALENDAR
VERSION:2.0
PRODID:SchoolNow
CALSCALE:GREGORIAN
BEGIN:VEVENT
UID:09200744-25cf-11ea-a402-22000a97d21c
DTSTAMP:20200508T003254Z
SUMMARY:Story Time
LOCATION:Activities Center
URL;VALUE=URI:https://www.wildernesslakecdd.org/calendar/2165866/story-time
DTSTART:20210705T140000Z
DTEND:20210705T150000Z
END:VEVENT
END:VCALENDAR
