BEGIN:VCALENDAR
VERSION:2.0
PRODID:SchoolNow
CALSCALE:GREGORIAN
BEGIN:VEVENT
UID:091ff0f6-25cf-11ea-aa9f-22000a97d21c
DTSTAMP:20200508T003253Z
SUMMARY:Story Time
LOCATION:Activities Center
URL;VALUE=URI:https://www.wildernesslakecdd.org/calendar/2165865/story-time
DTSTART:20210628T140000Z
DTEND:20210628T150000Z
END:VEVENT
END:VCALENDAR
