BEGIN:VCALENDAR
VERSION:2.0
PRODID:SchoolNow
CALSCALE:GREGORIAN
BEGIN:VEVENT
UID:091fda08-25cf-11ea-84bd-22000a97d21c
DTSTAMP:20200508T003253Z
SUMMARY:Story Time
LOCATION:Activities Center
URL;VALUE=URI:https://www.wildernesslakecdd.org/calendar/2165864/story-time
DTSTART:20210621T140000Z
DTEND:20210621T150000Z
END:VEVENT
END:VCALENDAR
