BEGIN:VCALENDAR
VERSION:2.0
PRODID:SchoolNow
CALSCALE:GREGORIAN
BEGIN:VEVENT
UID:091e6bf0-25cf-11ea-a87d-22000a97d21c
DTSTAMP:20210606T195635Z
SUMMARY:Tie Dye Day
LOCATION:Activities Center
URL;VALUE=URI:https://www.wildernesslakecdd.org/calendar/2165862/story-time
DTSTART:20210607T140000Z
DTEND:20210607T150000Z
END:VEVENT
END:VCALENDAR
