BEGIN:VCALENDAR
VERSION:2.0
PRODID:SchoolNow
CALSCALE:GREGORIAN
BEGIN:VEVENT
UID:091e3fcc-25cf-11ea-9bed-22000a97d21c
DTSTAMP:20200508T003253Z
SUMMARY:Story Time
LOCATION:Activities Center
URL;VALUE=URI:https://www.wildernesslakecdd.org/calendar/2165860/story-time
DTSTART:20210524T140000Z
DTEND:20210524T150000Z
END:VEVENT
END:VCALENDAR
