BEGIN:VCALENDAR
VERSION:2.0
PRODID:SchoolNow
CALSCALE:GREGORIAN
BEGIN:VEVENT
UID:091dfcce-25cf-11ea-b883-22000a97d21c
DTSTAMP:20210424T004906Z
SUMMARY:Playday at the Lodge
LOCATION:Activities Center
URL;VALUE=URI:https://www.wildernesslakecdd.org/calendar/2165857/story-time
DTSTART:20210503T140000Z
DTEND:20210503T150000Z
END:VEVENT
END:VCALENDAR
