BEGIN:VCALENDAR
VERSION:2.0
PRODID:SchoolNow
CALSCALE:GREGORIAN
BEGIN:VEVENT
UID:091de5b8-25cf-11ea-b545-22000a97d21c
DTSTAMP:20210424T004840Z
SUMMARY:Playday at the Lodge
LOCATION:Activities Center
URL;VALUE=URI:https://www.wildernesslakecdd.org/calendar/2165856/story-time
DTSTART:20210426T140000Z
DTEND:20210426T150000Z
END:VEVENT
END:VCALENDAR
