BEGIN:VCALENDAR
VERSION:2.0
PRODID:SchoolNow
CALSCALE:GREGORIAN
BEGIN:VEVENT
UID:091db930-25cf-11ea-bc36-22000a97d21c
DTSTAMP:20200508T003253Z
SUMMARY:Story Time
LOCATION:Activities Center
URL;VALUE=URI:https://www.wildernesslakecdd.org/calendar/2165854/story-time
DTSTART:20210412T140000Z
DTEND:20210412T150000Z
END:VEVENT
END:VCALENDAR
