BEGIN:VCALENDAR
VERSION:2.0
PRODID:SchoolNow
CALSCALE:GREGORIAN
BEGIN:VEVENT
UID:091da2ba-25cf-11ea-94c9-22000a97d21c
DTSTAMP:20210302T021937Z
SUMMARY:Playday
LOCATION:Lodge Playground
URL;VALUE=URI:https://www.wildernesslakecdd.org/calendar/2165853/story-time
DTSTART:20210405T140000Z
DTEND:20210405T150000Z
END:VEVENT
END:VCALENDAR
