BEGIN:VCALENDAR
VERSION:2.0
PRODID:SchoolNow
CALSCALE:GREGORIAN
BEGIN:VEVENT
UID:091d8c4e-25cf-11ea-8df1-22000a97d21c
DTSTAMP:20210302T021847Z
SUMMARY:Playday
LOCATION:Lodge Playground
URL;VALUE=URI:https://www.wildernesslakecdd.org/calendar/2165852/story-time
DTSTART:20210329T140000Z
DTEND:20210329T150000Z
END:VEVENT
END:VCALENDAR
