BEGIN:VCALENDAR
VERSION:2.0
PRODID:SchoolNow
CALSCALE:GREGORIAN
BEGIN:VEVENT
UID:091d5de6-25cf-11ea-84b7-22000a97d21c
DTSTAMP:20210302T021819Z
SUMMARY:Playday
LOCATION:Lodge Playground
URL;VALUE=URI:https://www.wildernesslakecdd.org/calendar/2165850/story-time
DTSTART:20210315T140000Z
DTEND:20210315T150000Z
END:VEVENT
END:VCALENDAR
