BEGIN:VCALENDAR
VERSION:2.0
PRODID:SchoolNow
CALSCALE:GREGORIAN
BEGIN:VEVENT
UID:091b691e-25cf-11ea-9c80-22000a97d21c
DTSTAMP:20200508T003252Z
SUMMARY:Story Time
LOCATION:Activities Center
URL;VALUE=URI:https://www.wildernesslakecdd.org/calendar/2165842/story-time
DTSTART:20210118T150000Z
DTEND:20210118T160000Z
END:VEVENT
END:VCALENDAR
