BEGIN:VCALENDAR
VERSION:2.0
PRODID:SchoolNow
CALSCALE:GREGORIAN
BEGIN:VEVENT
UID:091b3c78-25cf-11ea-b0d8-22000a97d21c
DTSTAMP:20200508T003252Z
SUMMARY:Story Time
LOCATION:Activities Center
URL;VALUE=URI:https://www.wildernesslakecdd.org/calendar/2165840/story-time
DTSTART:20210104T150000Z
DTEND:20210104T160000Z
END:VEVENT
END:VCALENDAR
