BEGIN:VCALENDAR
VERSION:2.0
PRODID:SchoolNow
CALSCALE:GREGORIAN
BEGIN:VEVENT
UID:091b0ff0-25cf-11ea-abd6-22000a97d21c
DTSTAMP:20200508T003252Z
SUMMARY:Story Time
LOCATION:Activities Center
URL;VALUE=URI:https://www.wildernesslakecdd.org/calendar/2165838/story-time
DTSTART:20201221T150000Z
DTEND:20201221T160000Z
END:VEVENT
END:VCALENDAR
