BEGIN:VCALENDAR
VERSION:2.0
PRODID:SchoolNow
CALSCALE:GREGORIAN
BEGIN:VEVENT
UID:091af93e-25cf-11ea-a25b-22000a97d21c
DTSTAMP:20200508T003252Z
SUMMARY:Story Time
LOCATION:Activities Center
URL;VALUE=URI:https://www.wildernesslakecdd.org/calendar/2165837/story-time
DTSTART:20201214T150000Z
DTEND:20201214T160000Z
END:VEVENT
END:VCALENDAR
