BEGIN:VCALENDAR
VERSION:2.0
PRODID:SchoolNow
CALSCALE:GREGORIAN
BEGIN:VEVENT
UID:091ae1e2-25cf-11ea-8389-22000a97d21c
DTSTAMP:20200508T003252Z
SUMMARY:Story Time
LOCATION:Activities Center
URL;VALUE=URI:https://www.wildernesslakecdd.org/calendar/2165836/story-time
DTSTART:20201207T150000Z
DTEND:20201207T160000Z
END:VEVENT
END:VCALENDAR
