BEGIN:VCALENDAR
VERSION:2.0
PRODID:SchoolNow
CALSCALE:GREGORIAN
BEGIN:VEVENT
UID:09195eee-25cf-11ea-b025-22000a97d21c
DTSTAMP:20200508T003252Z
SUMMARY:Story Time
LOCATION:Activities Center
URL;VALUE=URI:https://www.wildernesslakecdd.org/calendar/2165833/story-time
DTSTART:20201116T150000Z
DTEND:20201116T160000Z
END:VEVENT
END:VCALENDAR
