BEGIN:VCALENDAR
VERSION:2.0
PRODID:SchoolNow
CALSCALE:GREGORIAN
BEGIN:VEVENT
UID:091948e6-25cf-11ea-8ad2-22000a97d21c
DTSTAMP:20200508T003252Z
SUMMARY:Story Time
LOCATION:Activities Center
URL;VALUE=URI:https://www.wildernesslakecdd.org/calendar/2165832/story-time
DTSTART:20201109T150000Z
DTEND:20201109T160000Z
END:VEVENT
END:VCALENDAR
