BEGIN:VCALENDAR
VERSION:2.0
PRODID:SchoolNow
CALSCALE:GREGORIAN
BEGIN:VEVENT
UID:09191c2c-25cf-11ea-bb79-22000a97d21c
DTSTAMP:20200920T184517Z
SUMMARY:Playday at the Playground
LOCATION:Lodge Playground
URL;VALUE=URI:https://www.wildernesslakecdd.org/calendar/2165830/story-time
DTSTART:20201026T140000Z
DTEND:20201026T150000Z
END:VEVENT
END:VCALENDAR
