BEGIN:VCALENDAR
VERSION:2.0
PRODID:SchoolNow
CALSCALE:GREGORIAN
BEGIN:VEVENT
UID:091904a8-25cf-11ea-8995-22000a97d21c
DTSTAMP:20200920T184446Z
SUMMARY:Playday at the Playground
LOCATION:Lodge Playground
URL;VALUE=URI:https://www.wildernesslakecdd.org/calendar/2165829/story-time
DTSTART:20201019T140000Z
DTEND:20201019T150000Z
END:VEVENT
END:VCALENDAR
