BEGIN:VCALENDAR
VERSION:2.0
PRODID:SchoolNow
CALSCALE:GREGORIAN
BEGIN:VEVENT
UID:0918d7e4-25cf-11ea-940d-22000a97d21c
DTSTAMP:20200920T184248Z
SUMMARY:Playday at the Playground
LOCATION:Lodge Playground
URL;VALUE=URI:https://www.wildernesslakecdd.org/calendar/2165827/story-time
DTSTART:20201005T140000Z
DTEND:20201005T150000Z
END:VEVENT
END:VCALENDAR
