BEGIN:VCALENDAR
VERSION:2.0
PRODID:SchoolNow
CALSCALE:GREGORIAN
BEGIN:VEVENT
UID:0918c196-25cf-11ea-9f91-22000a97d21c
DTSTAMP:20200920T184321Z
SUMMARY:Playday at the Playground
LOCATION:Lodge Playground
URL;VALUE=URI:https://www.wildernesslakecdd.org/calendar/2165826/story-time
DTSTART:20200928T140000Z
DTEND:20200928T153000Z
END:VEVENT
END:VCALENDAR
