BEGIN:VCALENDAR
VERSION:2.0
PRODID:SchoolNow
CALSCALE:GREGORIAN
BEGIN:VEVENT
UID:0918aada-25cf-11ea-89d6-22000a97d21c
DTSTAMP:20200920T184310Z
SUMMARY:Playday at the Playground
LOCATION:Lodge Playground
URL;VALUE=URI:https://www.wildernesslakecdd.org/calendar/2165825/story-time
DTSTART:20200921T140000Z
DTEND:20200921T153000Z
END:VEVENT
END:VCALENDAR
