BEGIN:VCALENDAR
VERSION:2.0
PRODID:SchoolNow
CALSCALE:GREGORIAN
BEGIN:VEVENT
UID:09189464-25cf-11ea-a397-22000a97d21c
DTSTAMP:20200508T003251Z
SUMMARY:Story Time
LOCATION:Activities Center
URL;VALUE=URI:https://www.wildernesslakecdd.org/calendar/2165824/story-time
DTSTART:20200914T140000Z
DTEND:20200914T150000Z
END:VEVENT
END:VCALENDAR
