BEGIN:VCALENDAR
VERSION:2.0
PRODID:SchoolNow
CALSCALE:GREGORIAN
BEGIN:VEVENT
UID:09187dc6-25cf-11ea-a1ec-22000a97d21c
DTSTAMP:20200508T003251Z
SUMMARY:Story Time
LOCATION:Activities Center
URL;VALUE=URI:https://www.wildernesslakecdd.org/calendar/2165823/story-time
DTSTART:20200831T140000Z
DTEND:20200831T150000Z
END:VEVENT
END:VCALENDAR
