BEGIN:VCALENDAR
VERSION:2.0
PRODID:SchoolNow
CALSCALE:GREGORIAN
BEGIN:VEVENT
UID:091865d4-25cf-11ea-a704-22000a97d21c
DTSTAMP:20200823T120716Z
SUMMARY:Tot Play Day at the Lodge Playground
LOCATION:Activities Center
URL;VALUE=URI:https://www.wildernesslakecdd.org/calendar/2165822/story-time
DTSTART:20200824T140000Z
DTEND:20200824T150000Z
END:VEVENT
END:VCALENDAR
