BEGIN:VCALENDAR
VERSION:2.0
PRODID:SchoolNow
CALSCALE:GREGORIAN
BEGIN:VEVENT
UID:0917ae14-25cf-11ea-8afe-22000a97d21c
DTSTAMP:20200508T003251Z
SUMMARY:Story Time
LOCATION:Activities Center
URL;VALUE=URI:https://www.wildernesslakecdd.org/calendar/2165821/story-time
DTSTART:20200817T140000Z
DTEND:20200817T150000Z
END:VEVENT
END:VCALENDAR
