BEGIN:VCALENDAR
VERSION:2.0
PRODID:SchoolNow
CALSCALE:GREGORIAN
BEGIN:VEVENT
UID:091781aa-25cf-11ea-bb56-22000a97d21c
DTSTAMP:20200508T003251Z
SUMMARY:Story Time
LOCATION:Activities Center
URL;VALUE=URI:https://www.wildernesslakecdd.org/calendar/2165819/story-time
DTSTART:20200803T140000Z
DTEND:20200803T150000Z
END:VEVENT
END:VCALENDAR
