BEGIN:VCALENDAR
VERSION:2.0
PRODID:SchoolNow
CALSCALE:GREGORIAN
BEGIN:VEVENT
UID:091754be-25cf-11ea-a89e-22000a97d21c
DTSTAMP:20200508T003251Z
SUMMARY:Story Time
LOCATION:Activities Center
URL;VALUE=URI:https://www.wildernesslakecdd.org/calendar/2165817/story-time
DTSTART:20200720T140000Z
DTEND:20200720T150000Z
END:VEVENT
END:VCALENDAR
