BEGIN:VCALENDAR
VERSION:2.0
PRODID:SchoolNow
CALSCALE:GREGORIAN
BEGIN:VEVENT
UID:09173c86-25cf-11ea-a60e-22000a97d21c
DTSTAMP:20200627T161801Z
SUMMARY:Story Time - Science Day
LOCATION:Nature Center
URL;VALUE=URI:https://www.wildernesslakecdd.org/calendar/2165816/story-time
DTSTART:20200713T140000Z
DTEND:20200713T150000Z
END:VEVENT
END:VCALENDAR
